Package: alabaster.mae Version: 1.6.0 Command: rm -rf alabaster.mae.buildbin-libdir && mkdir alabaster.mae.buildbin-libdir && /Users/biocbuild/BBS/utils/build-universal.sh alabaster.mae_1.6.0.tar.gz /Library/Frameworks/R.framework/Resources/bin/R alabaster.mae.buildbin-libdir StartedAt: 2025-02-04 12:26:26 -0500 (Tue, 04 Feb 2025) EndedAt: 2025-02-04 12:27:24 -0500 (Tue, 04 Feb 2025) EllapsedTime: 58.0 seconds RetCode: 0 Status: OK PackageFile: alabaster.mae_1.6.0.tgz PackageFileSize: 297.6 KiB