Package: alabaster.mae Version: 1.6.0 Command: /Library/Frameworks/R.framework/Resources/bin/R CMD build --keep-empty-dirs --no-resave-data alabaster.mae StartedAt: 2025-02-03 16:59:56 -0500 (Mon, 03 Feb 2025) EndedAt: 2025-02-03 17:01:15 -0500 (Mon, 03 Feb 2025) EllapsedTime: 79.6 seconds RetCode: 0 Status: OK PackageFile: alabaster.mae_1.6.0.tar.gz PackageFileSize: 222.4 KiB