Package: alabaster.mae Version: 1.6.0 Command: /Library/Frameworks/R.framework/Resources/bin/R CMD check --install=check:alabaster.mae.install-out.txt --library=/Library/Frameworks/R.framework/Resources/library --no-vignettes --timings alabaster.mae_1.6.0.tar.gz StartedAt: 2025-02-03 23:33:16 -0500 (Mon, 03 Feb 2025) EndedAt: 2025-02-03 23:41:30 -0500 (Mon, 03 Feb 2025) EllapsedTime: 494.0 seconds RetCode: 0 Status: OK CheckDir: alabaster.mae.Rcheck Warnings: 0