Package: alabaster.mae Version: 1.6.0 Command: /Library/Frameworks/R.framework/Resources/bin/R CMD INSTALL alabaster.mae StartedAt: 2025-02-03 16:39:58 -0500 (Mon, 03 Feb 2025) EndedAt: 2025-02-03 16:40:54 -0500 (Mon, 03 Feb 2025) EllapsedTime: 55.6 seconds RetCode: 0 Status: OK