Package: alabaster.mae Version: 1.6.0 Command: /home/biocbuild/bbs-3.20-bioc/R/bin/R CMD check --install=check:alabaster.mae.install-out.txt --library=/home/biocbuild/bbs-3.20-bioc/R/site-library --timings alabaster.mae_1.6.0.tar.gz StartedAt: 2025-02-03 19:59:02 -0500 (Mon, 03 Feb 2025) EndedAt: 2025-02-03 20:02:36 -0500 (Mon, 03 Feb 2025) EllapsedTime: 214.3 seconds RetCode: 0 Status: OK CheckDir: alabaster.mae.Rcheck Warnings: 0