Package: alabaster.matrix Version: 1.6.0 Command: /Library/Frameworks/R.framework/Resources/bin/R CMD build --keep-empty-dirs --no-resave-data alabaster.matrix StartedAt: 2024-11-08 15:54:46 -0500 (Fri, 08 Nov 2024) EndedAt: 2024-11-08 15:54:59 -0500 (Fri, 08 Nov 2024) EllapsedTime: 13.2 seconds RetCode: 0 Status: OK PackageFile: alabaster.matrix_1.6.0.tar.gz PackageFileSize: 273.4 KiB