Package: alabaster.matrix Version: 1.6.1 Command: chmod a+r alabaster.matrix -R && F:\biocbuild\bbs-3.20-bioc\R\bin\R.exe CMD build --keep-empty-dirs --no-resave-data alabaster.matrix StartedAt: 2025-02-03 17:26:39 -0500 (Mon, 03 Feb 2025) EndedAt: 2025-02-03 17:27:41 -0500 (Mon, 03 Feb 2025) EllapsedTime: 62.3 seconds RetCode: 0 Status: OK PackageFile: alabaster.matrix_1.6.1.tar.gz PackageFileSize: 273.8 KiB