Package: alabaster.matrix Version: 1.6.1 Command: /home/biocbuild/R/R/bin/R CMD INSTALL alabaster.matrix StartedAt: 2025-02-03 20:32:16 -0000 (Mon, 03 Feb 2025) EndedAt: 2025-02-03 20:32:51 -0000 (Mon, 03 Feb 2025) EllapsedTime: 35.5 seconds RetCode: 0 Status: OK