Package: alabaster.sce Version: 1.6.0 Command: /Library/Frameworks/R.framework/Resources/bin/R CMD build --keep-empty-dirs --no-resave-data alabaster.sce StartedAt: 2025-02-03 17:00:22 -0500 (Mon, 03 Feb 2025) EndedAt: 2025-02-03 17:01:41 -0500 (Mon, 03 Feb 2025) EllapsedTime: 79.1 seconds RetCode: 0 Status: OK PackageFile: alabaster.sce_1.6.0.tar.gz PackageFileSize: 220.3 KiB