Package: alabaster.sce Version: 1.6.0 Command: /Library/Frameworks/R.framework/Resources/bin/R CMD INSTALL alabaster.sce StartedAt: 2025-02-10 16:32:00 -0500 (Mon, 10 Feb 2025) EndedAt: 2025-02-10 16:32:58 -0500 (Mon, 10 Feb 2025) EllapsedTime: 58.0 seconds RetCode: 0 Status: OK