Package: alabaster.sce Version: 1.6.0 Command: /home/biocbuild/R/R/bin/R CMD check --install=check:alabaster.sce.install-out.txt --library=/home/biocbuild/R/R/site-library --no-vignettes --timings alabaster.sce_1.6.0.tar.gz StartedAt: 2025-02-04 04:15:14 -0000 (Tue, 04 Feb 2025) EndedAt: 2025-02-04 04:20:56 -0000 (Tue, 04 Feb 2025) EllapsedTime: 341.9 seconds RetCode: 0 Status: OK CheckDir: alabaster.sce.Rcheck Warnings: 0