Package: alabaster.schemas Version: 1.6.0 Command: /Library/Frameworks/R.framework/Resources/bin/R CMD build --keep-empty-dirs --no-resave-data alabaster.schemas StartedAt: 2025-02-03 17:00:24 -0500 (Mon, 03 Feb 2025) EndedAt: 2025-02-03 17:00:33 -0500 (Mon, 03 Feb 2025) EllapsedTime: 9.0 seconds RetCode: 0 Status: OK PackageFile: alabaster.schemas_1.6.0.tar.gz PackageFileSize: 239.9 KiB