Package: alabaster.schemas Version: 1.6.0 Command: /home/biocbuild/bbs-3.20-bioc/R/bin/R CMD INSTALL alabaster.schemas StartedAt: 2025-02-03 15:13:13 -0500 (Mon, 03 Feb 2025) EndedAt: 2025-02-03 15:13:23 -0500 (Mon, 03 Feb 2025) EllapsedTime: 10.2 seconds RetCode: 0 Status: OK