Package: alabaster.schemas Version: 1.6.0 Command: chmod a+r alabaster.schemas -R && F:\biocbuild\bbs-3.20-bioc\R\bin\R.exe CMD build --keep-empty-dirs --no-resave-data alabaster.schemas StartedAt: 2025-02-03 17:27:12 -0500 (Mon, 03 Feb 2025) EndedAt: 2025-02-03 17:27:21 -0500 (Mon, 03 Feb 2025) EllapsedTime: 9.6 seconds RetCode: 0 Status: OK PackageFile: alabaster.schemas_1.6.0.tar.gz PackageFileSize: 240 KiB