Package: alabaster.schemas Version: 1.6.0 Command: /home/biocbuild/R/R/bin/R CMD build --keep-empty-dirs --no-resave-data alabaster.schemas StartedAt: 2025-02-17 21:26:43 -0000 (Mon, 17 Feb 2025) EndedAt: 2025-02-17 21:26:47 -0000 (Mon, 17 Feb 2025) EllapsedTime: 4.0 seconds RetCode: 0 Status: OK PackageFile: alabaster.schemas_1.6.0.tar.gz PackageFileSize: 263.7 <A href="http://en.wikipedia.org/wiki/KiB" target="_blank">KiB</A>