Package: alabaster.spatial Version: 1.6.1 Command: rm -rf alabaster.spatial.buildbin-libdir && mkdir alabaster.spatial.buildbin-libdir && /Users/biocbuild/BBS/utils/build-universal.sh alabaster.spatial_1.6.1.tar.gz /Library/Frameworks/R.framework/Resources/bin/R alabaster.spatial.buildbin-libdir StartedAt: 2025-01-31 12:18:44 -0500 (Fri, 31 Jan 2025) EndedAt: 2025-01-31 12:19:46 -0500 (Fri, 31 Jan 2025) EllapsedTime: 61.9 seconds RetCode: 0 Status: OK PackageFile: alabaster.spatial_1.6.1.tgz PackageFileSize: 859.9 KiB