Package: alabaster.spatial Version: 1.6.1 Command: /home/biocbuild/bbs-3.20-bioc/R/bin/R CMD build --keep-empty-dirs --no-resave-data --md5 alabaster.spatial StartedAt: 2025-01-30 16:10:19 -0500 (Thu, 30 Jan 2025) EndedAt: 2025-01-30 16:10:59 -0500 (Thu, 30 Jan 2025) EllapsedTime: 40.1 seconds RetCode: 0 Status: OK PackageFile: alabaster.spatial_1.6.1.tar.gz PackageFileSize: 629.3 KiB