Package: alabaster.spatial Version: 1.6.1 Command: F:\biocbuild\bbs-3.20-bioc\R\bin\R.exe CMD INSTALL alabaster.spatial StartedAt: 2025-01-30 16:47:04 -0500 (Thu, 30 Jan 2025) EndedAt: 2025-01-30 16:47:37 -0500 (Thu, 30 Jan 2025) EllapsedTime: 33.3 seconds RetCode: 0 Status: OK