Package: alabaster.spatial Version: 1.6.1 Command: /home/biocbuild/R/R/bin/R CMD INSTALL alabaster.spatial StartedAt: 2025-01-30 21:02:17 -0000 (Thu, 30 Jan 2025) EndedAt: 2025-01-30 21:02:51 -0000 (Thu, 30 Jan 2025) EllapsedTime: 34.3 seconds RetCode: 0 Status: OK