Package: alabaster.string Version: 1.6.0 Command: /Library/Frameworks/R.framework/Resources/bin/R CMD build --keep-empty-dirs --no-resave-data alabaster.string StartedAt: 2025-02-03 17:00:39 -0500 (Mon, 03 Feb 2025) EndedAt: 2025-02-03 17:01:14 -0500 (Mon, 03 Feb 2025) EllapsedTime: 35.0 seconds RetCode: 0 Status: OK PackageFile: alabaster.string_1.6.0.tar.gz PackageFileSize: 220.2 KiB