Package: alabaster.string Version: 1.6.0 Command: /Library/Frameworks/R.framework/Resources/bin/R CMD check --install=check:alabaster.string.install-out.txt --library=/Library/Frameworks/R.framework/Resources/library --no-vignettes --timings alabaster.string_1.6.0.tar.gz StartedAt: 2025-01-31 00:04:27 -0500 (Fri, 31 Jan 2025) EndedAt: 2025-01-31 00:07:26 -0500 (Fri, 31 Jan 2025) EllapsedTime: 179.0 seconds RetCode: 0 Status: OK CheckDir: alabaster.string.Rcheck Warnings: 0