Package: alabaster.string Version: 1.6.0 Command: /home/biocbuild/bbs-3.20-bioc/R/bin/R CMD check --install=check:alabaster.string.install-out.txt --library=/home/biocbuild/bbs-3.20-bioc/R/site-library --timings alabaster.string_1.6.0.tar.gz StartedAt: 2025-02-03 19:59:29 -0500 (Mon, 03 Feb 2025) EndedAt: 2025-02-03 20:00:48 -0500 (Mon, 03 Feb 2025) EllapsedTime: 79.1 seconds RetCode: 0 Status: OK CheckDir: alabaster.string.Rcheck Warnings: 0