Package: alabaster.string Version: 1.6.0 Command: /home/biocbuild/bbs-3.20-bioc/R/bin/R CMD INSTALL alabaster.string StartedAt: 2025-02-03 15:21:07 -0500 (Mon, 03 Feb 2025) EndedAt: 2025-02-03 15:21:18 -0500 (Mon, 03 Feb 2025) EllapsedTime: 10.8 seconds RetCode: 0 Status: OK