Package: alabaster.string Version: 1.6.0 Command: /home/biocbuild/R/R/bin/R CMD build --keep-empty-dirs --no-resave-data alabaster.string StartedAt: 2025-02-03 21:34:22 -0000 (Mon, 03 Feb 2025) EndedAt: 2025-02-03 21:34:42 -0000 (Mon, 03 Feb 2025) EllapsedTime: 20.0 seconds RetCode: 0 Status: OK PackageFile: alabaster.string_1.6.0.tar.gz PackageFileSize: 244.2 KiB