Package: alabaster.string Version: 1.6.0 Command: /home/biocbuild/R/R/bin/R CMD check --install=check:alabaster.string.install-out.txt --library=/home/biocbuild/R/R/site-library --no-vignettes --timings alabaster.string_1.6.0.tar.gz StartedAt: 2025-01-31 03:45:20 -0000 (Fri, 31 Jan 2025) EndedAt: 2025-01-31 03:47:13 -0000 (Fri, 31 Jan 2025) EllapsedTime: 113.2 seconds RetCode: 0 Status: OK CheckDir: alabaster.string.Rcheck Warnings: 0