Package: alabaster.vcf Version: 1.6.0 Command: /Library/Frameworks/R.framework/Resources/bin/R CMD build --keep-empty-dirs --no-resave-data alabaster.vcf StartedAt: 2025-02-03 18:32:25 -0500 (Mon, 03 Feb 2025) EndedAt: 2025-02-03 18:33:39 -0500 (Mon, 03 Feb 2025) EllapsedTime: 74.4 seconds RetCode: 0 Status: OK PackageFile: alabaster.vcf_1.6.0.tar.gz PackageFileSize: 223 KiB