Package: alabaster.vcf Version: 1.6.0 Command: /Library/Frameworks/R.framework/Resources/bin/R CMD INSTALL alabaster.vcf StartedAt: 2025-02-03 17:53:38 -0500 (Mon, 03 Feb 2025) EndedAt: 2025-02-03 17:54:29 -0500 (Mon, 03 Feb 2025) EllapsedTime: 50.8 seconds RetCode: 0 Status: OK