Package: alabaster.vcf Version: 1.6.0 Command: /Library/Frameworks/R.framework/Resources/bin/R CMD INSTALL alabaster.vcf StartedAt: 2024-11-19 15:41:01 -0500 (Tue, 19 Nov 2024) EndedAt: 2024-11-19 15:42:02 -0500 (Tue, 19 Nov 2024) EllapsedTime: 61.1 seconds RetCode: 0 Status: OK