Package: alabaster.vcf Version: 1.6.0 Command: /home/biocbuild/R/R/bin/R CMD build --keep-empty-dirs --no-resave-data alabaster.vcf StartedAt: 2025-02-03 21:34:23 -0000 (Mon, 03 Feb 2025) EndedAt: 2025-02-03 21:35:41 -0000 (Mon, 03 Feb 2025) EllapsedTime: 78.0 seconds RetCode: 0 Status: OK PackageFile: alabaster.vcf_1.6.0.tar.gz PackageFileSize: 247.2 KiB