Package: alabaster Version: 1.6.0 Command: /Library/Frameworks/R.framework/Resources/bin/R CMD build --keep-empty-dirs --no-resave-data alabaster StartedAt: 2025-02-10 16:52:13 -0500 (Mon, 10 Feb 2025) EndedAt: 2025-02-10 16:53:54 -0500 (Mon, 10 Feb 2025) EllapsedTime: 101.2 seconds RetCode: 0 Status: OK PackageFile: alabaster_1.6.0.tar.gz PackageFileSize: 215.6 KiB