Package: alabaster Version: 1.6.0 Command: /home/biocbuild/bbs-3.20-bioc/R/bin/R CMD INSTALL alabaster StartedAt: 2025-02-03 16:04:48 -0500 (Mon, 03 Feb 2025) EndedAt: 2025-02-03 16:05:43 -0500 (Mon, 03 Feb 2025) EllapsedTime: 55.5 seconds RetCode: 0 Status: OK