Package: alevinQC
Version: 1.22.0
Command: /home/biocbuild/R/R/bin/R CMD build --keep-empty-dirs --no-resave-data alevinQC
StartedAt: 2024-11-19 22:43:51 -0000 (Tue, 19 Nov 2024)
EndedAt: 2024-11-19 22:44:44 -0000 (Tue, 19 Nov 2024)
EllapsedTime: 53.1 seconds
RetCode: 0
Status: OK
PackageFile: alevinQC_1.22.0.tar.gz
PackageFileSize: 7.378 <A href="http://en.wikipedia.org/wiki/MiB" target="_blank">MiB</A>