Package: alevinQC Version: 1.22.0 Command: rm -rf alevinQC.buildbin-libdir && mkdir alevinQC.buildbin-libdir && /Users/biocbuild/BBS/utils/build-universal.sh alevinQC_1.22.0.tar.gz /Library/Frameworks/R.framework/Resources/bin/R alevinQC.buildbin-libdir StartedAt: 2025-02-04 12:26:48 -0500 (Tue, 04 Feb 2025) EndedAt: 2025-02-04 12:27:23 -0500 (Tue, 04 Feb 2025) EllapsedTime: 35.1 seconds RetCode: 0 Status: OK PackageFile: alevinQC_1.22.0.tgz PackageFileSize: 8.01 MiB