Package: alevinQC Version: 1.22.0 Command: /Library/Frameworks/R.framework/Resources/bin/R CMD check --install=check:alevinQC.install-out.txt --library=/Library/Frameworks/R.framework/Resources/library --no-vignettes --timings alevinQC_1.22.0.tar.gz StartedAt: 2025-02-03 23:35:53 -0500 (Mon, 03 Feb 2025) EndedAt: 2025-02-03 23:41:20 -0500 (Mon, 03 Feb 2025) EllapsedTime: 326.9 seconds RetCode: 0 Status: OK CheckDir: alevinQC.Rcheck Warnings: 0