Package: alevinQC Version: 1.22.0 Command: /home/biocbuild/bbs-3.20-bioc/R/bin/R CMD check --install=check:alevinQC.install-out.txt --library=/home/biocbuild/bbs-3.20-bioc/R/site-library --timings alevinQC_1.22.0.tar.gz StartedAt: 2025-02-03 19:59:39 -0500 (Mon, 03 Feb 2025) EndedAt: 2025-02-03 20:02:05 -0500 (Mon, 03 Feb 2025) EllapsedTime: 146.1 seconds RetCode: 0 Status: OK CheckDir: alevinQC.Rcheck Warnings: 0