Package: alevinQC Version: 1.22.0 Command: /home/biocbuild/bbs-3.20-bioc/R/bin/R CMD INSTALL alevinQC StartedAt: 2025-02-03 15:40:51 -0500 (Mon, 03 Feb 2025) EndedAt: 2025-02-03 15:41:03 -0500 (Mon, 03 Feb 2025) EllapsedTime: 12.6 seconds RetCode: 0 Status: OK