Package: alevinQC Version: 1.22.0 Command: /home/biocbuild/R/R/bin/R CMD build --keep-empty-dirs --no-resave-data alevinQC StartedAt: 2025-02-03 21:34:31 -0000 (Mon, 03 Feb 2025) EndedAt: 2025-02-03 21:35:18 -0000 (Mon, 03 Feb 2025) EllapsedTime: 47.0 seconds RetCode: 0 Status: OK PackageFile: alevinQC_1.22.0.tar.gz PackageFileSize: 7.378 MiB