Package: amplican
Version: 1.28.0
Command: rm -rf amplican.buildbin-libdir && mkdir amplican.buildbin-libdir && /Users/biocbuild/BBS/utils/build-universal.sh amplican_1.28.0.tar.gz /Library/Frameworks/R.framework/Resources/bin/R amplican.buildbin-libdir
StartedAt: 2025-02-19 14:06:01 -0500 (Wed, 19 Feb 2025)
EndedAt: 2025-02-19 14:06:33 -0500 (Wed, 19 Feb 2025)
EllapsedTime: 32.2 seconds
RetCode: 0
Status: OK
PackageFile: amplican_1.28.0.tgz
PackageFileSize: 9.59 <A href="http://en.wikipedia.org/wiki/MiB" target="_blank">MiB</A>