Package: amplican Version: 1.28.0 Command: /Library/Frameworks/R.framework/Resources/bin/R CMD build --keep-empty-dirs --no-resave-data amplican StartedAt: 2025-02-03 18:35:30 -0500 (Mon, 03 Feb 2025) EndedAt: 2025-02-03 18:36:36 -0500 (Mon, 03 Feb 2025) EllapsedTime: 65.9 seconds RetCode: 0 Status: OK PackageFile: amplican_1.28.0.tar.gz PackageFileSize: 10.96 MiB