Package: amplican Version: 1.28.0 Command: /home/biocbuild/R/R/bin/R CMD INSTALL amplican StartedAt: 2024-11-19 20:59:11 -0000 (Tue, 19 Nov 2024) EndedAt: 2024-11-19 20:59:47 -0000 (Tue, 19 Nov 2024) EllapsedTime: 35.7 seconds RetCode: 0 Status: OK