Package: amplican Version: 1.28.0 Command: /Library/Frameworks/R.framework/Resources/bin/R CMD INSTALL amplican StartedAt: 2025-02-03 15:59:03 -0500 (Mon, 03 Feb 2025) EndedAt: 2025-02-03 15:59:55 -0500 (Mon, 03 Feb 2025) EllapsedTime: 52.1 seconds RetCode: 0 Status: OK