Package: amplican
Version: 1.27.0
Command: rm -rf amplican.buildbin-libdir && mkdir amplican.buildbin-libdir && C:\Users\biocbuild\bbs-3.20-bioc\R\bin\R.exe CMD INSTALL --build --library=amplican.buildbin-libdir amplican_1.27.0.tar.gz
StartedAt: 2024-07-16 05:53:06 -0400 (Tue, 16 Jul 2024)
EndedAt: 2024-07-16 05:53:46 -0400 (Tue, 16 Jul 2024)
EllapsedTime: 39.1 seconds
RetCode: 0
Status: OK
PackageFile: amplican_1.27.0.zip
PackageFileSize: 5.554 <A href="http://en.wikipedia.org/wiki/MiB" target="_blank">MiB</A>