Package: amplican Version: 1.28.0 Command: chmod a+r amplican -R && F:\biocbuild\bbs-3.20-bioc\R\bin\R.exe CMD build --keep-empty-dirs --no-resave-data amplican StartedAt: 2025-02-03 17:27:56 -0500 (Mon, 03 Feb 2025) EndedAt: 2025-02-03 17:30:40 -0500 (Mon, 03 Feb 2025) EllapsedTime: 163.9 seconds RetCode: 0 Status: OK PackageFile: amplican_1.28.0.tar.gz PackageFileSize: 6.573 MiB