Package: amplican Version: 1.28.0 Command: F:\biocbuild\bbs-3.20-bioc\R\bin\R.exe CMD check --no-multiarch --install=check:amplican.install-out.txt --library=F:\biocbuild\bbs-3.20-bioc\R\library --no-vignettes --timings amplican_1.28.0.tar.gz StartedAt: 2025-02-03 23:06:01 -0500 (Mon, 03 Feb 2025) EndedAt: 2025-02-03 23:09:51 -0500 (Mon, 03 Feb 2025) EllapsedTime: 229.7 seconds RetCode: 0 Status: OK CheckDir: amplican.Rcheck Warnings: 0