Package: amplican Version: 1.28.0 Command: F:\biocbuild\bbs-3.20-bioc\R\bin\R.exe CMD INSTALL amplican StartedAt: 2025-02-03 17:05:52 -0500 (Mon, 03 Feb 2025) EndedAt: 2025-02-03 17:07:22 -0500 (Mon, 03 Feb 2025) EllapsedTime: 89.7 seconds RetCode: 0 Status: OK