Package: amplican Version: 1.28.0 Command: /home/biocbuild/R/R/bin/R CMD check --install=check:amplican.install-out.txt --library=/home/biocbuild/R/R/site-library --no-vignettes --timings amplican_1.28.0.tar.gz StartedAt: 2025-02-04 04:17:56 -0000 (Tue, 04 Feb 2025) EndedAt: 2025-02-04 04:22:39 -0000 (Tue, 04 Feb 2025) EllapsedTime: 282.6 seconds RetCode: 0 Status: OK CheckDir: amplican.Rcheck Warnings: 0