Package: animalcules Version: 1.22.0 Command: /Library/Frameworks/R.framework/Resources/bin/R CMD INSTALL animalcules StartedAt: 2025-02-03 17:34:53 -0500 (Mon, 03 Feb 2025) EndedAt: 2025-02-03 17:35:29 -0500 (Mon, 03 Feb 2025) EllapsedTime: 36.5 seconds RetCode: 0 Status: OK