Package: animalcules
Version: 1.22.0
Command: /home/biocbuild/R/R/bin/R CMD INSTALL animalcules
StartedAt: 2024-11-19 21:19:21 -0000 (Tue, 19 Nov 2024)
EndedAt: 2024-11-19 21:20:08 -0000 (Tue, 19 Nov 2024)
EllapsedTime: 47.4 seconds
RetCode: 0
Status: OK