Package: animalcules Version: 1.22.0 Command: rm -rf animalcules.buildbin-libdir && mkdir animalcules.buildbin-libdir && /Users/biocbuild/BBS/utils/build-universal.sh animalcules_1.22.0.tar.gz /Library/Frameworks/R.framework/Resources/bin/R animalcules.buildbin-libdir StartedAt: 2025-02-04 12:27:23 -0500 (Tue, 04 Feb 2025) EndedAt: 2025-02-04 12:28:40 -0500 (Tue, 04 Feb 2025) EllapsedTime: 77.3 seconds RetCode: 0 Status: OK PackageFile: animalcules_1.22.0.tgz PackageFileSize: 3.486 MiB