Package: animalcules Version: 1.22.0 Command: /Library/Frameworks/R.framework/Resources/bin/R CMD build --keep-empty-dirs --no-resave-data animalcules StartedAt: 2025-02-03 17:02:02 -0500 (Mon, 03 Feb 2025) EndedAt: 2025-02-03 17:05:03 -0500 (Mon, 03 Feb 2025) EllapsedTime: 181.2 seconds RetCode: 0 Status: OK PackageFile: animalcules_1.22.0.tar.gz PackageFileSize: 3.323 MiB